Package: ndexr Version: 1.28.0 Command: rm -rf ndexr.buildbin-libdir && mkdir ndexr.buildbin-libdir && F:\biocbuild\bbs-3.20-bioc\R\bin\R.exe CMD INSTALL --build --library=ndexr.buildbin-libdir ndexr_1.28.0.tar.gz StartedAt: 2025-02-11 09:00:43 -0500 (Tue, 11 Feb 2025) EndedAt: 2025-02-11 09:01:12 -0500 (Tue, 11 Feb 2025) EllapsedTime: 28.7 seconds RetCode: 0 Status: OK PackageFile: ndexr_1.28.0.zip PackageFileSize: 623.2 KiB