Package: ndexr Version: 1.28.0 Command: chmod a+r ndexr -R && F:\biocbuild\bbs-3.20-bioc\R\bin\R.exe CMD build --keep-empty-dirs --no-resave-data ndexr StartedAt: 2025-02-03 20:47:19 -0500 (Mon, 03 Feb 2025) EndedAt: 2025-02-03 20:48:01 -0500 (Mon, 03 Feb 2025) EllapsedTime: 42.0 seconds RetCode: 0 Status: OK PackageFile: ndexr_1.28.0.tar.gz PackageFileSize: 947.2 KiB