Package: ndexr Version: 1.28.0 Command: /home/biocbuild/R/R/bin/R CMD build --keep-empty-dirs --no-resave-data ndexr StartedAt: 2025-02-04 01:22:31 -0000 (Tue, 04 Feb 2025) EndedAt: 2025-02-04 01:22:44 -0000 (Tue, 04 Feb 2025) EllapsedTime: 13.0 seconds RetCode: 0 Status: OK PackageFile: ndexr_1.28.0.tar.gz PackageFileSize: 971.7 KiB