Package: nearBynding Version: 1.16.0 Command: /Library/Frameworks/R.framework/Resources/bin/R CMD INSTALL nearBynding StartedAt: 2025-02-03 16:07:52 -0500 (Mon, 03 Feb 2025) EndedAt: 2025-02-03 16:08:37 -0500 (Mon, 03 Feb 2025) EllapsedTime: 44.9 seconds RetCode: 0 Status: OK