Package: nearBynding Version: 1.16.0 Command: rm -rf nearBynding.buildbin-libdir && mkdir nearBynding.buildbin-libdir && /Users/biocbuild/BBS/utils/build-universal.sh nearBynding_1.16.0.tar.gz /Library/Frameworks/R.framework/Resources/bin/R nearBynding.buildbin-libdir StartedAt: 2025-02-04 13:37:18 -0500 (Tue, 04 Feb 2025) EndedAt: 2025-02-04 13:39:27 -0500 (Tue, 04 Feb 2025) EllapsedTime: 128.9 seconds RetCode: 0 Status: OK PackageFile: nearBynding_1.16.0.tgz PackageFileSize: 3.213 MiB