Package: nearBynding Version: 1.16.0 Command: /Library/Frameworks/R.framework/Resources/bin/R CMD check --install=check:nearBynding.install-out.txt --library=/Library/Frameworks/R.framework/Resources/library --no-vignettes --timings nearBynding_1.16.0.tar.gz StartedAt: 2025-02-04 07:10:50 -0500 (Tue, 04 Feb 2025) EndedAt: 2025-02-04 07:20:38 -0500 (Tue, 04 Feb 2025) EllapsedTime: 588.6 seconds RetCode: 0 Status: OK CheckDir: nearBynding.Rcheck Warnings: 0