Package: nearBynding Version: 1.16.0 Command: /home/biocbuild/bbs-3.20-bioc/R/bin/R CMD INSTALL nearBynding StartedAt: 2025-02-10 15:28:58 -0500 (Mon, 10 Feb 2025) EndedAt: 2025-02-10 15:29:34 -0500 (Mon, 10 Feb 2025) EllapsedTime: 35.7 seconds RetCode: 0 Status: OK