Package: nearBynding Version: 1.16.0 Command: F:\biocbuild\bbs-3.20-bioc\R\bin\R.exe CMD INSTALL nearBynding StartedAt: 2025-02-03 16:56:36 -0500 (Mon, 03 Feb 2025) EndedAt: 2025-02-03 16:57:29 -0500 (Mon, 03 Feb 2025) EllapsedTime: 53.0 seconds RetCode: 0 Status: OK