Package: nearBynding Version: 1.16.0 Command: /home/biocbuild/R/R/bin/R CMD INSTALL nearBynding StartedAt: 2025-02-03 20:45:30 -0000 (Mon, 03 Feb 2025) EndedAt: 2025-02-03 20:46:16 -0000 (Mon, 03 Feb 2025) EllapsedTime: 46.2 seconds RetCode: 0 Status: OK