Package: netDx Version: 1.18.0 Command: /Library/Frameworks/R.framework/Resources/bin/R CMD build --keep-empty-dirs --no-resave-data netDx StartedAt: 2024-11-19 17:52:11 -0500 (Tue, 19 Nov 2024) EndedAt: 2024-11-19 17:57:10 -0500 (Tue, 19 Nov 2024) EllapsedTime: 298.0 seconds RetCode: 1 Status: ERROR PackageFile: None PackageFileSize: NA