Package: netDx Version: 1.18.0 Command: /home/biocbuild/bbs-3.20-bioc/R/bin/R CMD build --keep-empty-dirs --no-resave-data --md5 netDx StartedAt: 2025-01-30 18:19:41 -0500 (Thu, 30 Jan 2025) EndedAt: 2025-01-30 18:23:06 -0500 (Thu, 30 Jan 2025) EllapsedTime: 205.3 seconds RetCode: 1 Status: ERROR PackageFile: None PackageFileSize: NA