Package: netOmics Version: 1.12.0 Command: /Library/Frameworks/R.framework/Resources/bin/R CMD build --keep-empty-dirs --no-resave-data netOmics StartedAt: 2025-02-04 04:40:43 -0500 (Tue, 04 Feb 2025) EndedAt: 2025-02-04 04:41:17 -0500 (Tue, 04 Feb 2025) EllapsedTime: 34.0 seconds RetCode: 1 Status: ERROR PackageFile: None PackageFileSize: NA