Package: netOmics Version: 1.12.0 Command: /Library/Frameworks/R.framework/Resources/bin/R CMD INSTALL netOmics StartedAt: 2025-02-03 17:55:41 -0500 (Mon, 03 Feb 2025) EndedAt: 2025-02-03 17:56:04 -0500 (Mon, 03 Feb 2025) EllapsedTime: 22.3 seconds RetCode: 0 Status: OK