Package: netOmics Version: 1.12.0 Command: /home/biocbuild/bbs-3.20-bioc/R/bin/R CMD INSTALL netOmics StartedAt: 2025-02-03 16:03:35 -0500 (Mon, 03 Feb 2025) EndedAt: 2025-02-03 16:03:56 -0500 (Mon, 03 Feb 2025) EllapsedTime: 21.5 seconds RetCode: 0 Status: OK