Package: netOmics Version: 1.12.0 Command: chmod a+r netOmics -R && F:\biocbuild\bbs-3.20-bioc\R\bin\R.exe CMD build --keep-empty-dirs --no-resave-data netOmics StartedAt: 2025-02-10 20:42:37 -0500 (Mon, 10 Feb 2025) EndedAt: 2025-02-10 20:43:18 -0500 (Mon, 10 Feb 2025) EllapsedTime: 41.1 seconds RetCode: 1 Status: ERROR PackageFile: None PackageFileSize: NA