Package: netSmooth Version: 1.26.0 Command: rm -rf netSmooth.buildbin-libdir && mkdir netSmooth.buildbin-libdir && /Users/biocbuild/BBS/utils/build-universal.sh netSmooth_1.26.0.tar.gz /Library/Frameworks/R.framework/Resources/bin/R netSmooth.buildbin-libdir StartedAt: 2025-01-31 13:17:31 -0500 (Fri, 31 Jan 2025) EndedAt: 2025-01-31 13:19:13 -0500 (Fri, 31 Jan 2025) EllapsedTime: 102.6 seconds RetCode: 0 Status: OK PackageFile: netSmooth_1.26.0.tgz PackageFileSize: 4.316 MiB