Package: netSmooth Version: 1.26.0 Command: /Library/Frameworks/R.framework/Resources/bin/R CMD INSTALL netSmooth StartedAt: 2025-02-03 16:38:45 -0500 (Mon, 03 Feb 2025) EndedAt: 2025-02-03 16:40:22 -0500 (Mon, 03 Feb 2025) EllapsedTime: 97.6 seconds RetCode: 0 Status: OK