Package: netSmooth Version: 1.26.0 Command: /home/biocbuild/R/R/bin/R CMD check --install=check:netSmooth.install-out.txt --library=/home/biocbuild/R/R/site-library --no-vignettes --timings netSmooth_1.26.0.tar.gz StartedAt: 2025-02-04 09:21:44 -0000 (Tue, 04 Feb 2025) EndedAt: 2025-02-04 09:29:16 -0000 (Tue, 04 Feb 2025) EllapsedTime: 451.8 seconds RetCode: 0 Status: OK CheckDir: netSmooth.Rcheck Warnings: 0