Package: nethet Version: 1.38.0 Command: /Library/Frameworks/R.framework/Resources/bin/R CMD build --keep-empty-dirs --no-resave-data nethet StartedAt: 2025-01-30 21:23:04 -0500 (Thu, 30 Jan 2025) EndedAt: 2025-01-30 21:30:04 -0500 (Thu, 30 Jan 2025) EllapsedTime: 420.4 seconds RetCode: 0 Status: OK PackageFile: nethet_1.38.0.tar.gz PackageFileSize: 703.8 KiB