Package: nethet Version: 1.38.0 Command: /Library/Frameworks/R.framework/Resources/bin/R CMD check --install=check:nethet.install-out.txt --library=/Library/Frameworks/R.framework/Resources/library --no-vignettes --timings nethet_1.38.0.tar.gz StartedAt: 2025-01-31 07:16:39 -0500 (Fri, 31 Jan 2025) EndedAt: 2025-01-31 07:22:06 -0500 (Fri, 31 Jan 2025) EllapsedTime: 326.7 seconds RetCode: 0 Status: WARNINGS CheckDir: nethet.Rcheck Warnings: 1