Package: nethet Version: 1.38.0 Command: /Library/Frameworks/R.framework/Resources/bin/R CMD INSTALL nethet StartedAt: 2025-01-30 16:47:48 -0500 (Thu, 30 Jan 2025) EndedAt: 2025-01-30 16:48:24 -0500 (Thu, 30 Jan 2025) EllapsedTime: 35.8 seconds RetCode: 0 Status: OK