Package: nethet Version: 1.38.0 Command: rm -rf nethet.buildbin-libdir && mkdir nethet.buildbin-libdir && F:\biocbuild\bbs-3.20-bioc\R\bin\R.exe CMD INSTALL --build --library=nethet.buildbin-libdir nethet_1.38.0.tar.gz StartedAt: 2025-01-31 09:10:40 -0500 (Fri, 31 Jan 2025) EndedAt: 2025-01-31 09:11:32 -0500 (Fri, 31 Jan 2025) EllapsedTime: 52.4 seconds RetCode: 0 Status: OK PackageFile: nethet_1.38.0.zip PackageFileSize: 1.025 MiB