Package: nethet Version: 1.38.0 Command: chmod a+r nethet -R && F:\biocbuild\bbs-3.20-bioc\R\bin\R.exe CMD build --keep-empty-dirs --no-resave-data nethet StartedAt: 2025-01-30 20:33:38 -0500 (Thu, 30 Jan 2025) EndedAt: 2025-01-30 20:38:01 -0500 (Thu, 30 Jan 2025) EllapsedTime: 263.1 seconds RetCode: 0 Status: OK PackageFile: nethet_1.38.0.tar.gz PackageFileSize: 698.7 KiB