Package: nethet Version: 1.38.0 Command: F:\biocbuild\bbs-3.20-bioc\R\bin\R.exe CMD check --no-multiarch --install=check:nethet.install-out.txt --library=F:\biocbuild\bbs-3.20-bioc\R\library --no-vignettes --timings nethet_1.38.0.tar.gz StartedAt: 2025-01-31 04:32:58 -0500 (Fri, 31 Jan 2025) EndedAt: 2025-01-31 04:36:45 -0500 (Fri, 31 Jan 2025) EllapsedTime: 227.5 seconds RetCode: 0 Status: WARNINGS CheckDir: nethet.Rcheck Warnings: 1