Package: nethet Version: 1.38.0 Command: /home/biocbuild/R/R/bin/R CMD build --keep-empty-dirs --no-resave-data nethet StartedAt: 2025-01-31 01:21:19 -0000 (Fri, 31 Jan 2025) EndedAt: 2025-01-31 01:25:14 -0000 (Fri, 31 Jan 2025) EllapsedTime: 234.3 seconds RetCode: 0 Status: OK PackageFile: nethet_1.38.0.tar.gz PackageFileSize: 688.7 KiB