Package: ngsReports Version: 2.8.0 Command: /Library/Frameworks/R.framework/Resources/bin/R CMD build --keep-empty-dirs --no-resave-data ngsReports StartedAt: 2025-02-04 04:44:43 -0500 (Tue, 04 Feb 2025) EndedAt: 2025-02-04 04:45:44 -0500 (Tue, 04 Feb 2025) EllapsedTime: 60.7 seconds RetCode: 0 Status: OK PackageFile: ngsReports_2.8.0.tar.gz PackageFileSize: 3.189 MiB