Package: ngsReports Version: 2.8.0 Command: /Library/Frameworks/R.framework/Resources/bin/R CMD check --install=check:ngsReports.install-out.txt --library=/Library/Frameworks/R.framework/Resources/library --no-vignettes --timings ngsReports_2.8.0.tar.gz StartedAt: 2025-02-05 03:55:46 -0500 (Wed, 05 Feb 2025) EndedAt: 2025-02-05 03:59:07 -0500 (Wed, 05 Feb 2025) EllapsedTime: 200.8 seconds RetCode: 0 Status: OK CheckDir: ngsReports.Rcheck Warnings: 0