Package: ngsReports Version: 2.8.0 Command: /Library/Frameworks/R.framework/Resources/bin/R CMD INSTALL ngsReports StartedAt: 2025-02-03 16:47:42 -0500 (Mon, 03 Feb 2025) EndedAt: 2025-02-03 16:48:02 -0500 (Mon, 03 Feb 2025) EllapsedTime: 20.8 seconds RetCode: 0 Status: OK