Package: ngsReports Version: 2.8.0 Command: rm -rf ngsReports.buildbin-libdir && mkdir ngsReports.buildbin-libdir && /Users/biocbuild/BBS/utils/build-universal.sh ngsReports_2.8.0.tar.gz /Library/Frameworks/R.framework/Resources/bin/R ngsReports.buildbin-libdir StartedAt: 2024-11-09 17:02:10 -0500 (Sat, 09 Nov 2024) EndedAt: 2024-11-09 17:02:18 -0500 (Sat, 09 Nov 2024) EllapsedTime: 8.1 seconds RetCode: 0 Status: OK PackageFile: ngsReports_2.8.0.tgz PackageFileSize: 3.796 MiB