Package: ngsReports Version: 2.8.0 Command: /Library/Frameworks/R.framework/Resources/bin/R CMD build --keep-empty-dirs --no-resave-data ngsReports StartedAt: 2024-11-08 18:23:24 -0500 (Fri, 08 Nov 2024) EndedAt: 2024-11-08 18:23:46 -0500 (Fri, 08 Nov 2024) EllapsedTime: 22.2 seconds RetCode: 0 Status: OK PackageFile: ngsReports_2.8.0.tar.gz PackageFileSize: 3.191 MiB