Package: ngsReports Version: 2.8.0 Command: /Library/Frameworks/R.framework/Resources/bin/R CMD INSTALL ngsReports StartedAt: 2025-02-03 16:05:29 -0500 (Mon, 03 Feb 2025) EndedAt: 2025-02-03 16:06:11 -0500 (Mon, 03 Feb 2025) EllapsedTime: 42.5 seconds RetCode: 0 Status: OK