Package: ngsReports Version: 2.8.0 Command: /home/biocbuild/R/R/bin/R CMD build --keep-empty-dirs --no-resave-data ngsReports StartedAt: 2025-02-04 01:25:27 -0000 (Tue, 04 Feb 2025) EndedAt: 2025-02-04 01:26:57 -0000 (Tue, 04 Feb 2025) EllapsedTime: 90.2 seconds RetCode: 0 Status: OK PackageFile: ngsReports_2.8.0.tar.gz PackageFileSize: 1.883 MiB