Package: nnNorm Version: 2.70.0 Command: rm -rf nnNorm.buildbin-libdir && mkdir nnNorm.buildbin-libdir && /Users/biocbuild/BBS/utils/build-universal.sh nnNorm_2.70.0.tar.gz /Library/Frameworks/R.framework/Resources/bin/R nnNorm.buildbin-libdir StartedAt: 2025-02-05 16:57:24 -0500 (Wed, 05 Feb 2025) EndedAt: 2025-02-05 16:57:29 -0500 (Wed, 05 Feb 2025) EllapsedTime: 4.6 seconds RetCode: 0 Status: OK PackageFile: nnNorm_2.70.0.tgz PackageFileSize: 195.6 KiB