Package: nnNorm Version: 2.70.0 Command: /Library/Frameworks/R.framework/Resources/bin/R CMD build --keep-empty-dirs --no-resave-data nnNorm StartedAt: 2025-02-04 04:45:31 -0500 (Tue, 04 Feb 2025) EndedAt: 2025-02-04 04:46:22 -0500 (Tue, 04 Feb 2025) EllapsedTime: 51.3 seconds RetCode: 0 Status: OK PackageFile: nnNorm_2.70.0.tar.gz PackageFileSize: 1.59 MiB