Package: nnNorm Version: 2.70.0 Command: /Library/Frameworks/R.framework/Resources/bin/R CMD check --install=check:nnNorm.install-out.txt --library=/Library/Frameworks/R.framework/Resources/library --no-vignettes --timings nnNorm_2.70.0.tar.gz StartedAt: 2025-02-04 07:15:59 -0500 (Tue, 04 Feb 2025) EndedAt: 2025-02-04 07:18:28 -0500 (Tue, 04 Feb 2025) EllapsedTime: 149.2 seconds RetCode: 0 Status: OK CheckDir: nnNorm.Rcheck Warnings: 0