Package: nnNorm Version: 2.70.0 Command: /Library/Frameworks/R.framework/Resources/bin/R CMD INSTALL nnNorm StartedAt: 2025-02-03 15:18:17 -0500 (Mon, 03 Feb 2025) EndedAt: 2025-02-03 15:18:38 -0500 (Mon, 03 Feb 2025) EllapsedTime: 20.7 seconds RetCode: 0 Status: OK