Package: nnNorm Version: 2.70.0 Command: /home/biocbuild/R/R/bin/R CMD build --keep-empty-dirs --no-resave-data nnNorm StartedAt: 2025-02-04 01:25:47 -0000 (Tue, 04 Feb 2025) EndedAt: 2025-02-04 01:26:41 -0000 (Tue, 04 Feb 2025) EllapsedTime: 54.1 seconds RetCode: 0 Status: OK PackageFile: nnNorm_2.70.0.tar.gz PackageFileSize: 1.583 MiB