Package: nnNorm Version: 2.70.0 Command: /home/biocbuild/R/R/bin/R CMD check --install=check:nnNorm.install-out.txt --library=/home/biocbuild/R/R/site-library --no-vignettes --timings nnNorm_2.70.0.tar.gz StartedAt: 2025-02-11 08:42:31 -0000 (Tue, 11 Feb 2025) EndedAt: 2025-02-11 08:43:58 -0000 (Tue, 11 Feb 2025) EllapsedTime: 87.1 seconds RetCode: 0 Status: OK CheckDir: nnNorm.Rcheck Warnings: 0