Package: nondetects Version: 2.36.0 Command: /Library/Frameworks/R.framework/Resources/bin/R CMD build --keep-empty-dirs --no-resave-data nondetects StartedAt: 2025-02-04 04:47:15 -0500 (Tue, 04 Feb 2025) EndedAt: 2025-02-04 04:49:16 -0500 (Tue, 04 Feb 2025) EllapsedTime: 120.8 seconds RetCode: 0 Status: OK PackageFile: nondetects_2.36.0.tar.gz PackageFileSize: 136.1 KiB