Package: nondetects Version: 2.36.0 Command: /home/biocbuild/bbs-3.20-bioc/R/bin/R CMD build --keep-empty-dirs --no-resave-data --md5 nondetects StartedAt: 2025-02-03 18:31:26 -0500 (Mon, 03 Feb 2025) EndedAt: 2025-02-03 18:34:19 -0500 (Mon, 03 Feb 2025) EllapsedTime: 173.4 seconds RetCode: 0 Status: OK PackageFile: nondetects_2.36.0.tar.gz PackageFileSize: 130.5 KiB