Package: normalize450K Version: 1.34.0 Command: /Library/Frameworks/R.framework/Resources/bin/R CMD build --keep-empty-dirs --no-resave-data normalize450K StartedAt: 2025-01-31 04:39:58 -0500 (Fri, 31 Jan 2025) EndedAt: 2025-01-31 04:40:32 -0500 (Fri, 31 Jan 2025) EllapsedTime: 33.5 seconds RetCode: 0 Status: OK PackageFile: normalize450K_1.34.0.tar.gz PackageFileSize: 3.138 MiB