Package: normalize450K Version: 1.34.0 Command: /Library/Frameworks/R.framework/Resources/bin/R CMD INSTALL normalize450K StartedAt: 2025-01-30 15:28:42 -0500 (Thu, 30 Jan 2025) EndedAt: 2025-01-30 15:29:13 -0500 (Thu, 30 Jan 2025) EllapsedTime: 31.4 seconds RetCode: 0 Status: OK