Package: normalize450K Version: 1.34.0 Command: rm -rf normalize450K.buildbin-libdir && mkdir normalize450K.buildbin-libdir && /Users/biocbuild/BBS/utils/build-universal.sh normalize450K_1.34.0.tar.gz /Library/Frameworks/R.framework/Resources/bin/R normalize450K.buildbin-libdir StartedAt: 2025-01-31 13:17:54 -0500 (Fri, 31 Jan 2025) EndedAt: 2025-01-31 13:18:24 -0500 (Fri, 31 Jan 2025) EllapsedTime: 30.4 seconds RetCode: 0 Status: OK PackageFile: normalize450K_1.34.0.tgz PackageFileSize: 3.138 MiB