Package: normalize450K Version: 1.34.0 Command: /Library/Frameworks/R.framework/Resources/bin/R CMD build --keep-empty-dirs --no-resave-data normalize450K StartedAt: 2025-01-30 21:27:53 -0500 (Thu, 30 Jan 2025) EndedAt: 2025-01-30 21:28:58 -0500 (Thu, 30 Jan 2025) EllapsedTime: 65.2 seconds RetCode: 0 Status: OK PackageFile: normalize450K_1.34.0.tar.gz PackageFileSize: 3.137 MiB