Package: normalize450K Version: 1.34.0 Command: /Library/Frameworks/R.framework/Resources/bin/R CMD check --install=check:normalize450K.install-out.txt --library=/Library/Frameworks/R.framework/Resources/library --no-vignettes --timings normalize450K_1.34.0.tar.gz StartedAt: 2025-01-31 07:23:00 -0500 (Fri, 31 Jan 2025) EndedAt: 2025-01-31 07:24:04 -0500 (Fri, 31 Jan 2025) EllapsedTime: 64.0 seconds RetCode: 0 Status: OK CheckDir: normalize450K.Rcheck Warnings: 0