Package: normalize450K Version: 1.34.0 Command: /Library/Frameworks/R.framework/Resources/bin/R CMD INSTALL normalize450K StartedAt: 2025-01-30 15:14:07 -0500 (Thu, 30 Jan 2025) EndedAt: 2025-01-30 15:14:28 -0500 (Thu, 30 Jan 2025) EllapsedTime: 21.5 seconds RetCode: 0 Status: OK