Package: normalize450K Version: 1.34.0 Command: /home/biocbuild/bbs-3.20-bioc/R/bin/R CMD check --install=check:normalize450K.install-out.txt --library=/home/biocbuild/bbs-3.20-bioc/R/site-library --timings normalize450K_1.34.0.tar.gz StartedAt: 2025-02-04 00:45:52 -0500 (Tue, 04 Feb 2025) EndedAt: 2025-02-04 00:46:23 -0500 (Tue, 04 Feb 2025) EllapsedTime: 31.0 seconds RetCode: 0 Status: OK CheckDir: normalize450K.Rcheck Warnings: 0