Package: normalize450K Version: 1.34.0 Command: rm -rf normalize450K.buildbin-libdir && mkdir normalize450K.buildbin-libdir && F:\biocbuild\bbs-3.20-bioc\R\bin\R.exe CMD INSTALL --build --library=normalize450K.buildbin-libdir normalize450K_1.34.0.tar.gz StartedAt: 2025-02-04 09:04:51 -0500 (Tue, 04 Feb 2025) EndedAt: 2025-02-04 09:05:20 -0500 (Tue, 04 Feb 2025) EllapsedTime: 28.6 seconds RetCode: 0 Status: OK PackageFile: normalize450K_1.34.0.zip PackageFileSize: 3.048 MiB