Package: npGSEA Version: 1.42.0 Command: /Library/Frameworks/R.framework/Resources/bin/R CMD build --keep-empty-dirs --no-resave-data npGSEA StartedAt: 2025-02-11 04:46:54 -0500 (Tue, 11 Feb 2025) EndedAt: 2025-02-11 04:47:37 -0500 (Tue, 11 Feb 2025) EllapsedTime: 42.2 seconds RetCode: 0 Status: OK PackageFile: npGSEA_1.42.0.tar.gz PackageFileSize: 357.3 KiB