Package: npGSEA Version: 1.42.0 Command: rm -rf npGSEA.buildbin-libdir && mkdir npGSEA.buildbin-libdir && /Users/biocbuild/BBS/utils/build-universal.sh npGSEA_1.42.0.tar.gz /Library/Frameworks/R.framework/Resources/bin/R npGSEA.buildbin-libdir StartedAt: 2025-02-11 14:00:22 -0500 (Tue, 11 Feb 2025) EndedAt: 2025-02-11 14:01:19 -0500 (Tue, 11 Feb 2025) EllapsedTime: 57.0 seconds RetCode: 0 Status: OK PackageFile: npGSEA_1.42.0.tgz PackageFileSize: 696.4 KiB